BEGIN:VCALENDAR
VERSION:2.0
PRODID:-//ROA - ECPv6.15.20//NONSGML v1.0//EN
CALSCALE:GREGORIAN
METHOD:PUBLISH
X-WR-CALNAME:ROA
X-ORIGINAL-URL:https://roa.org
X-WR-CALDESC:Events for ROA
REFRESH-INTERVAL;VALUE=DURATION:PT1H
X-Robots-Tag:noindex
X-PUBLISHED-TTL:PT1H
BEGIN:VTIMEZONE
TZID:UTC
BEGIN:STANDARD
TZOFFSETFROM:+0000
TZOFFSETTO:+0000
TZNAME:UTC
DTSTART:20250101T000000
END:STANDARD
END:VTIMEZONE
BEGIN:VEVENT
DTSTART;TZID=UTC:20260507T000000
DTEND;TZID=UTC:20260509T000000
DTSTAMP:20260421T053704
CREATED:20251218T103916Z
LAST-MODIFIED:20260127T204354Z
UID:8084-1778112000-1778284800@roa.org
SUMMARY:CIOR/CIOMR In-Between Meeting (IBM)
DESCRIPTION:More information will be provided as it becomes available.
URL:https://roa.org/event/cior-ciomr-in-between-meeting-ibm/
CATEGORIES:International
ATTACH;FMTTYPE=image/jpeg:https://roa.org/wp-content/uploads/2025/12/international_calendar.jpg
END:VEVENT
END:VCALENDAR